BEGIN:VCALENDAR
VERSION:2.0
PRODID:-//Linda Nemec Foster - ECPv5.3.1.1//NONSGML v1.0//EN
CALSCALE:GREGORIAN
METHOD:PUBLISH
X-WR-CALNAME:Linda Nemec Foster
X-ORIGINAL-URL:https://www.lindanemecfoster.com
X-WR-CALDESC:Events for Linda Nemec Foster
BEGIN:VTIMEZONE
TZID:America/Detroit
BEGIN:DAYLIGHT
TZOFFSETFROM:-0500
TZOFFSETTO:-0400
TZNAME:EDT
DTSTART:20260308T070000
END:DAYLIGHT
BEGIN:STANDARD
TZOFFSETFROM:-0400
TZOFFSETTO:-0500
TZNAME:EST
DTSTART:20261101T060000
END:STANDARD
END:VTIMEZONE
BEGIN:VEVENT
DTSTART;TZID=America/Detroit:20260207T130000
DTEND;TZID=America/Detroit:20260207T153000
DTSTAMP:20260420T061411
CREATED:20260206T205414Z
LAST-MODIFIED:20260302T141135Z
UID:7444-1770469200-1770478200@www.lindanemecfoster.com
SUMMARY:Linda Nemec Foster reads her award-winning poem at The Poetry Center in New Jersey
DESCRIPTION:Linda’s poem\, “What You Want—Baby\, I Got It\,” was selected as an Honorable Mention in the 2025 Allen Ginsberg Poetry Contest. \nShe will read the poem at the annual awards ceremony at The Poetry Center. \nA reception will follow the program. \nFor more info\, contact Cynthia Pagan at: cpagan@pccc.edu \n 
URL:https://www.lindanemecfoster.com/event/linda-nemec-foster-reads-her-award-winning-poem-at-the-poetry-center-in-new-jersey/
LOCATION:The Poetry Center (Passaic County Community College)\, 32 Church ST\, Paterson\, NJ\, 07505\, United States
CATEGORIES:Past Events
END:VEVENT
END:VCALENDAR