BEGIN:VCALENDAR
VERSION:2.0
PRODID:-//Linda Nemec Foster - ECPv5.3.1.1//NONSGML v1.0//EN
CALSCALE:GREGORIAN
METHOD:PUBLISH
X-WR-CALNAME:Linda Nemec Foster
X-ORIGINAL-URL:https://www.lindanemecfoster.com
X-WR-CALDESC:Events for Linda Nemec Foster
BEGIN:VTIMEZONE
TZID:America/Detroit
BEGIN:DAYLIGHT
TZOFFSETFROM:-0500
TZOFFSETTO:-0400
TZNAME:EDT
DTSTART:20250309T070000
END:DAYLIGHT
BEGIN:STANDARD
TZOFFSETFROM:-0400
TZOFFSETTO:-0500
TZNAME:EST
DTSTART:20251102T060000
END:STANDARD
END:VTIMEZONE
BEGIN:VEVENT
DTSTART;TZID=America/Detroit:20250806T120000
DTEND;TZID=America/Detroit:20250806T150000
DTSTAMP:20260420T153836
CREATED:20250804T171446Z
LAST-MODIFIED:20250919T193730Z
UID:7386-1754481600-1754492400@www.lindanemecfoster.com
SUMMARY:Linda Nemec Foster Leads a Poetry Workshop for Middle School and High School Students
DESCRIPTION:Linda will lead an ekphrastic poetry workshop for two student groups. Both workshops will be inspired by the visual art of a local artist who has collaborated with area musicians. The ekphrastic nature of the event will include writing prompts and selections of art pieces to generate new poems. Each participant will receive a free copy of one of Linda’s books. \nWealthy Theater Annex\n1110 Wealthy St. SE\nGrand Rapids\, MI 49506 \nFor more info\, contact Shayna Marie at: shaynamarie@reachingbeyondbias.org
URL:https://www.lindanemecfoster.com/event/linda-nemec-foster-leads-a-poetry-workshop-for-middle-school-and-high-school-students/
CATEGORIES:Past Events
END:VEVENT
END:VCALENDAR