BEGIN:VCALENDAR
VERSION:2.0
PRODID:-//Linda Nemec Foster - ECPv5.3.1.1//NONSGML v1.0//EN
CALSCALE:GREGORIAN
METHOD:PUBLISH
X-WR-CALNAME:Linda Nemec Foster
X-ORIGINAL-URL:https://www.lindanemecfoster.com
X-WR-CALDESC:Events for Linda Nemec Foster
BEGIN:VTIMEZONE
TZID:America/Detroit
BEGIN:DAYLIGHT
TZOFFSETFROM:-0500
TZOFFSETTO:-0400
TZNAME:EDT
DTSTART:20250309T070000
END:DAYLIGHT
BEGIN:STANDARD
TZOFFSETFROM:-0400
TZOFFSETTO:-0500
TZNAME:EST
DTSTART:20251102T060000
END:STANDARD
END:VTIMEZONE
BEGIN:VEVENT
DTSTART;TZID=America/Detroit:20250530T151500
DTEND;TZID=America/Detroit:20250530T171500
DTSTAMP:20260420T190529
CREATED:20250530T200018Z
LAST-MODIFIED:20250613T185726Z
UID:7342-1748618100-1748625300@www.lindanemecfoster.com
SUMMARY:Linda Nemec Foster is a featured poet at the annual conference of Society for the Study of Midwestern Literature
DESCRIPTION:Linda will give a major reading of her poetry—from published books and new work—at this annual conference of the SSML.\nFor more information\, contact the session coordinator Janet Heller at: janetheller@charter.net \nWriting the Midwest: 2025 Symposium of Scholars and Creative Writers\nKellogg Conference Center\nMichigan State University\nEast Lansing\, MI
URL:https://www.lindanemecfoster.com/event/linda-nemec-foster-is-a-featured-poet-at-the-annual-conference-of-society-for-the-study-of-midwestern-literature/
LOCATION:Kellogg Conference Center\, 219 S Harrison Rd\, East Lansing\, MI\, 48824\, United States
CATEGORIES:Past Events
END:VEVENT
END:VCALENDAR