BEGIN:VCALENDAR
VERSION:2.0
PRODID:-//Linda Nemec Foster - ECPv5.3.1.1//NONSGML v1.0//EN
CALSCALE:GREGORIAN
METHOD:PUBLISH
X-WR-CALNAME:Linda Nemec Foster
X-ORIGINAL-URL:https://www.lindanemecfoster.com
X-WR-CALDESC:Events for Linda Nemec Foster
BEGIN:VTIMEZONE
TZID:America/Detroit
BEGIN:DAYLIGHT
TZOFFSETFROM:-0500
TZOFFSETTO:-0400
TZNAME:EDT
DTSTART:20250309T070000
END:DAYLIGHT
BEGIN:STANDARD
TZOFFSETFROM:-0400
TZOFFSETTO:-0500
TZNAME:EST
DTSTART:20251102T060000
END:STANDARD
END:VTIMEZONE
BEGIN:VEVENT
DTSTART;TZID=America/Detroit:20250422T183000
DTEND;TZID=America/Detroit:20250422T200000
DTSTAMP:20260420T221751
CREATED:20250418T212247Z
LAST-MODIFIED:20250423T164458Z
UID:7313-1745346600-1745352000@www.lindanemecfoster.com
SUMMARY:Linda Nemec Foster launches her new book in Ann Arbor at Literati Bookstore
DESCRIPTION:Linda presents a PowerPoint presentation of The Lake Huron Mermaid at Literati Bookstore in Ann Arbor. \nApril 22\, 2025\n6:30 pm – 8:00 pm \nLinda will feature her new book (a collaboration with co-author Anne-Marie Oomen and artist Meridith Ridl) with a program that highlights the poetry\, art\, and creative process of this acclaimed collection. \nFor more info: https://www.literatibookstore.com/event/poetry-literati-linda-nemec-foster \nLiterati Bookstore\n124 E. Washington St.\nAnn Arbor\, MI 48104
URL:https://www.lindanemecfoster.com/event/linda-nemec-foster-launches-her-new-book-in-ann-arbor-at-literati-bookstore/
LOCATION:Literati Bookstore\, 124 E Washington St\, Ann Arbor\, Michigan\, 48104
CATEGORIES:Past Events
END:VEVENT
END:VCALENDAR