BEGIN:VCALENDAR
VERSION:2.0
PRODID:-//Linda Nemec Foster - ECPv5.3.1.1//NONSGML v1.0//EN
CALSCALE:GREGORIAN
METHOD:PUBLISH
X-WR-CALNAME:Linda Nemec Foster
X-ORIGINAL-URL:https://www.lindanemecfoster.com
X-WR-CALDESC:Events for Linda Nemec Foster
BEGIN:VTIMEZONE
TZID:America/Detroit
BEGIN:DAYLIGHT
TZOFFSETFROM:-0500
TZOFFSETTO:-0400
TZNAME:EDT
DTSTART:20250309T070000
END:DAYLIGHT
BEGIN:STANDARD
TZOFFSETFROM:-0400
TZOFFSETTO:-0500
TZNAME:EST
DTSTART:20251102T060000
END:STANDARD
END:VTIMEZONE
BEGIN:VEVENT
DTSTART;VALUE=DATE:20250403
DTEND;VALUE=DATE:20250406
DTSTAMP:20260420T221847
CREATED:20250404T205811Z
LAST-MODIFIED:20250416T115027Z
UID:7306-1743638400-1743897599@www.lindanemecfoster.com
SUMMARY:Linda Nemec Foster Promotes Her New Book\, The Lake Huron Mermaid\, with a Book Tour in the Traverse City Area
DESCRIPTION:Linda will be doing readings and presenting PowerPoint programs with her co-author Anne-Marie Oomen at several locations. \nApril 3: Leelanau Township Library in Northport\, MI at 7:00-9:00 pm. \nApril 4: Botanical Gardens’ Visitor Center in Traverse City\, MI at 5:30-7:30 pm. This event is the area’s book launch for the new work. \nApril 5: Oliver Art Center in Frankfort\, MI at 10:30am-noon. This event will feature a reading\, PowerPoint program\, and a creative writing workshop. \nFor more info on any of these events\, contact the book tour’s organizer\, Anne-Marie Oomen at oomenam@gmail.com.
URL:https://www.lindanemecfoster.com/event/linda-nemec-foster-promotes-her-new-book-the-lake-huron-mermaid-with-a-book-tour-in-the-traverse-city-area/
CATEGORIES:Past Events
END:VEVENT
END:VCALENDAR