BEGIN:VCALENDAR
VERSION:2.0
PRODID:-//Linda Nemec Foster - ECPv5.3.1.1//NONSGML v1.0//EN
CALSCALE:GREGORIAN
METHOD:PUBLISH
X-WR-CALNAME:Linda Nemec Foster
X-ORIGINAL-URL:https://www.lindanemecfoster.com
X-WR-CALDESC:Events for Linda Nemec Foster
BEGIN:VTIMEZONE
TZID:America/Detroit
BEGIN:DAYLIGHT
TZOFFSETFROM:-0500
TZOFFSETTO:-0400
TZNAME:EDT
DTSTART:20250309T070000
END:DAYLIGHT
BEGIN:STANDARD
TZOFFSETFROM:-0400
TZOFFSETTO:-0500
TZNAME:EST
DTSTART:20251102T060000
END:STANDARD
END:VTIMEZONE
BEGIN:VEVENT
DTSTART;TZID=America/Detroit:20250227T110000
DTEND;TZID=America/Detroit:20250227T120000
DTSTAMP:20260420T235846
CREATED:20250227T123202Z
LAST-MODIFIED:20250228T215647Z
UID:7277-1740654000-1740657600@www.lindanemecfoster.com
SUMMARY:Linda Nemec Foster presents The Lake Huron Mermaid program for the Grand Rapids Women’s City Club
DESCRIPTION:In honor of her dear friend\, Wendy Marty\, Linda will present her new book\, The Lake Huron Mermaid\, to an organization that meant a lot to Wendy. This event will feature a PowerPoint program that highlights the creative process\, poems\, and art from the book. A book signing and luncheon will follow. \nFor more info\, contact the WCC’s office at: wccgrbusiness@gmail.com
URL:https://www.lindanemecfoster.com/event/linda-nemec-foster-presents-the-lake-huron-mermaid-program-for-the-grand-rapids-womens-city-club/
LOCATION:Mayflower Congregational Church\, 2345 Robinson RD SE\, Grand Rapids\, MI\, 49506\, United States
CATEGORIES:Past Events
END:VEVENT
END:VCALENDAR