BEGIN:VCALENDAR
VERSION:2.0
PRODID:-//Linda Nemec Foster - ECPv5.3.1.1//NONSGML v1.0//EN
CALSCALE:GREGORIAN
METHOD:PUBLISH
X-WR-CALNAME:Linda Nemec Foster
X-ORIGINAL-URL:https://www.lindanemecfoster.com
X-WR-CALDESC:Events for Linda Nemec Foster
BEGIN:VTIMEZONE
TZID:America/Detroit
BEGIN:DAYLIGHT
TZOFFSETFROM:-0500
TZOFFSETTO:-0400
TZNAME:EDT
DTSTART:20240310T070000
END:DAYLIGHT
BEGIN:STANDARD
TZOFFSETFROM:-0400
TZOFFSETTO:-0500
TZNAME:EST
DTSTART:20241103T060000
END:STANDARD
END:VTIMEZONE
BEGIN:VEVENT
DTSTART;TZID=America/Detroit:20240409T190000
DTEND;TZID=America/Detroit:20240409T203000
DTSTAMP:20260423T141720
CREATED:20240408T200015Z
LAST-MODIFIED:20250423T170327Z
UID:6732-1712689200-1712694600@www.lindanemecfoster.com
SUMMARY:Poetry Month Celebration at Leelanau Township Library
DESCRIPTION:Linda will celebrate National Poetry Month with her popular program that features her work and the different art forms that have inspired it: animation\, music\, visual art\, photography\, and film. This event is sponsored by the Friends of the Leelanau Library and is free and open to the public. A Q&A session\, book signing\, and reception will follow the presentation. \nLeelanau Township Library\n119 E Nagonaba St\nNorthport\, MI 49670\nPhone: (231) 386-5131 \nFor more info\, contact Alison Arthur at: 12750n@gmail.com
URL:https://www.lindanemecfoster.com/event/poetry-month-celebration-at-leelanau-township-library/
LOCATION:Leelanau Township Library\, 119 E Nagonaba St\, Northport\, MI\, 49670\, United States
END:VEVENT
END:VCALENDAR