BEGIN:VCALENDAR
VERSION:2.0
PRODID:-//Linda Nemec Foster - ECPv5.3.1.1//NONSGML v1.0//EN
CALSCALE:GREGORIAN
METHOD:PUBLISH
X-WR-CALNAME:Linda Nemec Foster
X-ORIGINAL-URL:https://www.lindanemecfoster.com
X-WR-CALDESC:Events for Linda Nemec Foster
BEGIN:VTIMEZONE
TZID:America/Detroit
BEGIN:DAYLIGHT
TZOFFSETFROM:-0500
TZOFFSETTO:-0400
TZNAME:EDT
DTSTART:20240310T070000
END:DAYLIGHT
BEGIN:STANDARD
TZOFFSETFROM:-0400
TZOFFSETTO:-0500
TZNAME:EST
DTSTART:20241103T060000
END:STANDARD
END:VTIMEZONE
BEGIN:VEVENT
DTSTART;TZID=America/Detroit:20240203T130000
DTEND;TZID=America/Detroit:20240203T160000
DTSTAMP:20260423T170825
CREATED:20240201T130713Z
LAST-MODIFIED:20250423T170310Z
UID:6693-1706965200-1706976000@www.lindanemecfoster.com
SUMMARY:Award Ceremony for the Allen Ginsberg Poetry Contest
DESCRIPTION:Linda is honored for her poem that won first prize—the top award—from over 1\,130 poems submitted. \nThis reading and ceremony celebrates the winners of the contest. Linda will read her award-winning poem\, “When We Talk About the Movie\, Casablanca\, My Father Remembers Every Line…” \nThe event is sponsored by the Paterson Literary Review and Linda’s poem (along with the other winners and finalists) will be published later in 2024 by the PLR. \nThe program takes place at:\nThe Poetry Center\nHamilton Club Building\n32 Church Street\nPaterson\, NJ 07505 \nFor more info\, contact Smita Desai at: sdesai@pccc.edu
URL:https://www.lindanemecfoster.com/event/award-ceremony-for-the-allen-ginsberg-poetry-contest/
LOCATION:The Hamilton Club\, 32 Church Street\, Paterson\, NJ\, 07505\, United States
END:VEVENT
END:VCALENDAR