BEGIN:VCALENDAR
VERSION:2.0
PRODID:-//Linda Nemec Foster - ECPv5.3.1.1//NONSGML v1.0//EN
CALSCALE:GREGORIAN
METHOD:PUBLISH
X-WR-CALNAME:Linda Nemec Foster
X-ORIGINAL-URL:https://www.lindanemecfoster.com
X-WR-CALDESC:Events for Linda Nemec Foster
BEGIN:VTIMEZONE
TZID:America/Detroit
BEGIN:DAYLIGHT
TZOFFSETFROM:-0500
TZOFFSETTO:-0400
TZNAME:EDT
DTSTART:20240310T070000
END:DAYLIGHT
BEGIN:STANDARD
TZOFFSETFROM:-0400
TZOFFSETTO:-0500
TZNAME:EST
DTSTART:20241103T060000
END:STANDARD
END:VTIMEZONE
BEGIN:VEVENT
DTSTART;TZID=America/Detroit:20240125T190000
DTEND;TZID=America/Detroit:20240125T200000
DTSTAMP:20260423T183103
CREATED:20240119T130014Z
LAST-MODIFIED:20250423T170306Z
UID:6647-1706209200-1706212800@www.lindanemecfoster.com
SUMMARY:Special Program of Poetry\, Video\, Music\, Art\, and Film January 25\, 2024
DESCRIPTION:Join Linda in this unique program that features her work and the different art forms that have inspired it: animation\, music\, visual art\, photography\, and film. The Zoom presentation is free and open to the public. \nClick below for more info and the Zoom link. \nZoom Event Link\nPhone: 312-626-6799\nPasscode: 178251 \nContact Nancy Owen Nelson at: nelnan@aol.com with any questions. \n\nClick the button below to watch the full recording with Linda Nemec Foster as introduced by Nancy Owen Nelson:\nClick to View the Recorded Program
URL:https://www.lindanemecfoster.com/event/special-program-of-poetry-video-music-art-and-film-january-25-2024/
END:VEVENT
END:VCALENDAR