BEGIN:VCALENDAR
VERSION:2.0
PRODID:-//Linda Nemec Foster - ECPv5.3.1.1//NONSGML v1.0//EN
CALSCALE:GREGORIAN
METHOD:PUBLISH
X-WR-CALNAME:Linda Nemec Foster
X-ORIGINAL-URL:https://www.lindanemecfoster.com
X-WR-CALDESC:Events for Linda Nemec Foster
BEGIN:VTIMEZONE
TZID:America/Detroit
BEGIN:DAYLIGHT
TZOFFSETFROM:-0500
TZOFFSETTO:-0400
TZNAME:EDT
DTSTART:20230312T070000
END:DAYLIGHT
BEGIN:STANDARD
TZOFFSETFROM:-0400
TZOFFSETTO:-0500
TZNAME:EST
DTSTART:20231105T060000
END:STANDARD
END:VTIMEZONE
BEGIN:VEVENT
DTSTART;TZID=America/Detroit:20231002T180000
DTEND;TZID=America/Detroit:20231002T200000
DTSTAMP:20260423T223222
CREATED:20231002T140050Z
LAST-MODIFIED:20240329T160545Z
UID:6585-1696269600-1696276800@www.lindanemecfoster.com
SUMMARY:Poetry Reading in Royal Oak\, Michigan
DESCRIPTION:Linda will read her poem that was selected as an honorable mention for this year’s Springfed Arts Poetry Contest. She’ll be joined by other winners including Linda Sienkiewicz and Alexander Morgan. A book signing and reception will follow the program. Free and open to the public. \nRoyal Oak Public Library\n222 E. Eleven Mile Road\nRoyal Oak\, MI \nFor more information\, please contact John Lamb at: johndlamb@ameritech.net
URL:https://www.lindanemecfoster.com/event/poetry-reading-in-royal-oak-michigan/
LOCATION:Royal Oak Public Library\, 222 E Eleven Mile Rd\, Royal Oak\, MI\, 48067\, United States
END:VEVENT
END:VCALENDAR