BEGIN:VCALENDAR
VERSION:2.0
PRODID:-//Linda Nemec Foster - ECPv5.3.1.1//NONSGML v1.0//EN
CALSCALE:GREGORIAN
METHOD:PUBLISH
X-WR-CALNAME:Linda Nemec Foster
X-ORIGINAL-URL:https://www.lindanemecfoster.com
X-WR-CALDESC:Events for Linda Nemec Foster
BEGIN:VTIMEZONE
TZID:America/Detroit
BEGIN:DAYLIGHT
TZOFFSETFROM:-0500
TZOFFSETTO:-0400
TZNAME:EDT
DTSTART:20230312T070000
END:DAYLIGHT
BEGIN:STANDARD
TZOFFSETFROM:-0400
TZOFFSETTO:-0500
TZNAME:EST
DTSTART:20231105T060000
END:STANDARD
END:VTIMEZONE
BEGIN:VEVENT
DTSTART;TZID=America/Detroit:20230909T130000
DTEND;TZID=America/Detroit:20230909T140000
DTSTAMP:20260424T001204
CREATED:20230822T120040Z
LAST-MODIFIED:20240329T160553Z
UID:6535-1694264400-1694268000@www.lindanemecfoster.com
SUMMARY:Poetry Reading in Green Bay\, Wisconsin
DESCRIPTION:Linda will be reading from her most recent book\, Bone Country\, and also discuss two other poetry collections: The Blue Divide and The Lake Michigan Mermaid. \nThis event is hosted by Lion’s Mouth Bookstore\, one of the region’s most popular independent bookstores. \nLion’s Mouth Bookstore\n211 N Washington Street\nGreen Bay WI\, 54301 \n\nFor more information\, click on the link below:\nhttps://lionsmouthbookstore.com/events/28997
URL:https://www.lindanemecfoster.com/event/poetry-reading-in-green-bay-wisconsin/
LOCATION:Lion’s Mouth Bookstore\, 211 N Washington Street\, Green Bay\, WI\, 54301\, United States
END:VEVENT
END:VCALENDAR