BEGIN:VCALENDAR
VERSION:2.0
PRODID:-//Linda Nemec Foster - ECPv5.3.1.1//NONSGML v1.0//EN
CALSCALE:GREGORIAN
METHOD:PUBLISH
X-WR-CALNAME:Linda Nemec Foster
X-ORIGINAL-URL:https://www.lindanemecfoster.com
X-WR-CALDESC:Events for Linda Nemec Foster
BEGIN:VTIMEZONE
TZID:America/Detroit
BEGIN:DAYLIGHT
TZOFFSETFROM:-0500
TZOFFSETTO:-0400
TZNAME:EDT
DTSTART:20230312T070000
END:DAYLIGHT
BEGIN:STANDARD
TZOFFSETFROM:-0400
TZOFFSETTO:-0500
TZNAME:EST
DTSTART:20231105T060000
END:STANDARD
END:VTIMEZONE
BEGIN:VEVENT
DTSTART;VALUE=DATE:20230619
DTEND;VALUE=DATE:20230624
DTSTAMP:20260424T044108
CREATED:20230531T121048Z
LAST-MODIFIED:20240329T160601Z
UID:6503-1687132800-1687564799@www.lindanemecfoster.com
SUMMARY:Scriptoria Conference in Grand Rapids
DESCRIPTION:Linda is a featured poet\, author\, and workshop leader for this annual writing conference sponsored by Aquinas College\, Calvin University\, and Cornerstone University. She will conduct two workshops on poetic forms and prose poetry and present a major evening reading of her work on Tuesday\, June 20 at 7:00 pm. \nFor more information\, contact Cynthia Beach at cynthia.beach@cornerstone.edu \nFor the full schedule and to register\, click on the link: www.scriptoriaworkshop.org
URL:https://www.lindanemecfoster.com/event/scriptoria-conference-in-grand-rapids/
END:VEVENT
END:VCALENDAR