BEGIN:VCALENDAR
VERSION:2.0
PRODID:-//Linda Nemec Foster - ECPv5.3.1.1//NONSGML v1.0//EN
CALSCALE:GREGORIAN
METHOD:PUBLISH
X-WR-CALNAME:Linda Nemec Foster
X-ORIGINAL-URL:https://www.lindanemecfoster.com
X-WR-CALDESC:Events for Linda Nemec Foster
BEGIN:VTIMEZONE
TZID:America/Detroit
BEGIN:DAYLIGHT
TZOFFSETFROM:-0500
TZOFFSETTO:-0400
TZNAME:EDT
DTSTART:20230312T070000
END:DAYLIGHT
BEGIN:STANDARD
TZOFFSETFROM:-0400
TZOFFSETTO:-0500
TZNAME:EST
DTSTART:20231105T060000
END:STANDARD
END:VTIMEZONE
BEGIN:VEVENT
DTSTART;TZID=America/Detroit:20230415T083000
DTEND;TZID=America/Detroit:20230415T160000
DTSTAMP:20260424T073345
CREATED:20230412T163029Z
LAST-MODIFIED:20240329T160642Z
UID:6427-1681547400-1681574400@www.lindanemecfoster.com
SUMMARY:A Rally of Writers
DESCRIPTION:Linda is a featured author at this annual writers’ conference. \nEvent Date & Time: April 15 @ 8:30 am – 4:00 pm\nEvent and Registration Link: https://mailchi.mp/28708043aa68/rally-newsletter-november-13838825?e=2998f98162 \nShe will present two sessions: 1) on prose poetry and flash fiction; and 2) a poetry critique for participants. She will also be available for book signings and informal discussions with conference attendees. \nA Rally of Writers\nLansing Community College\n(West Campus in Delta Twp.)\n5708 Cornerstone Drive\nLansing\, MI 48917 \nFor additional information\, contact Rob Edwards at: arallyofwriters@att.net
URL:https://www.lindanemecfoster.com/event/a-rally-of-writers/
LOCATION:Lansing Community College\, 5708 Cornerstone Drive\, Lansing\, MI\, 48917\, United States
END:VEVENT
END:VCALENDAR