BEGIN:VCALENDAR
VERSION:2.0
PRODID:-//Linda Nemec Foster - ECPv5.3.1.1//NONSGML v1.0//EN
CALSCALE:GREGORIAN
METHOD:PUBLISH
X-WR-CALNAME:Linda Nemec Foster
X-ORIGINAL-URL:https://www.lindanemecfoster.com
X-WR-CALDESC:Events for Linda Nemec Foster
BEGIN:VTIMEZONE
TZID:America/Detroit
BEGIN:DAYLIGHT
TZOFFSETFROM:-0500
TZOFFSETTO:-0400
TZNAME:EDT
DTSTART:20230312T070000
END:DAYLIGHT
BEGIN:STANDARD
TZOFFSETFROM:-0400
TZOFFSETTO:-0500
TZNAME:EST
DTSTART:20231105T060000
END:STANDARD
END:VTIMEZONE
BEGIN:VEVENT
DTSTART;TZID=America/Detroit:20230329T183000
DTEND;TZID=America/Detroit:20230329T193000
DTSTAMP:20260424T071720
CREATED:20221118T201957Z
LAST-MODIFIED:20240329T160646Z
UID:5872-1680114600-1680118200@www.lindanemecfoster.com
SUMMARY:The First Major Book Launch For Bone Country
DESCRIPTION:The first major book launch for Bone Country will take place in Ann Arbor at Literati Bookstore on March 29\, 2023 at 6:30 pm. Linda will be appearing with poet and colleague Diane DeCillis who will interview her after the reading as they discuss the book’s inspiration\, subjects\, and themes. This will be an in-person event. \nLiterati Bookstore\n124 E. Washington St\nAnn Arbor\, MI 48104 \nFor additional information on this event\, please click here to visit the bookstore’s website.
URL:https://www.lindanemecfoster.com/event/the-first-major-book-launch-for-bone-country/
LOCATION:Literati Bookstore\, 124 E Washington St\, Ann Arbor\, Michigan\, 48104
END:VEVENT
END:VCALENDAR