BEGIN:VCALENDAR
VERSION:2.0
PRODID:-//Linda Nemec Foster - ECPv5.3.1.1//NONSGML v1.0//EN
CALSCALE:GREGORIAN
METHOD:PUBLISH
X-WR-CALNAME:Linda Nemec Foster
X-ORIGINAL-URL:https://www.lindanemecfoster.com
X-WR-CALDESC:Events for Linda Nemec Foster
BEGIN:VTIMEZONE
TZID:America/Detroit
BEGIN:DAYLIGHT
TZOFFSETFROM:-0500
TZOFFSETTO:-0400
TZNAME:EDT
DTSTART:20230312T070000
END:DAYLIGHT
BEGIN:STANDARD
TZOFFSETFROM:-0400
TZOFFSETTO:-0500
TZNAME:EST
DTSTART:20231105T060000
END:STANDARD
END:VTIMEZONE
BEGIN:VEVENT
DTSTART;TZID=America/Detroit:20230322T190000
DTEND;TZID=America/Detroit:20230322T204500
DTSTAMP:20260424T084634
CREATED:20230320T130819Z
LAST-MODIFIED:20240329T160650Z
UID:6389-1679511600-1679517900@www.lindanemecfoster.com
SUMMARY:Crazy Wisdom Poetry Series
DESCRIPTION:Linda is the featured reader for this poetry series sponsored by an Ann Arbor-based literary group. This national event is on Zoom.\n \nEvent Time: March 22 @ 7:00 pm – 8:45 pm.\n \nFor more information and to request the Zoom link\, email cwpoetrycircle@gmail.com \n\nClick below to listen to the event’s audio recording provided by the Crazy Wisdom Poetry Circle YouTube Channel.
URL:https://www.lindanemecfoster.com/event/crazy-wisdom-poetry-series/
END:VEVENT
END:VCALENDAR