BEGIN:VCALENDAR
VERSION:2.0
PRODID:-//Linda Nemec Foster - ECPv5.3.1.1//NONSGML v1.0//EN
CALSCALE:GREGORIAN
METHOD:PUBLISH
X-WR-CALNAME:Linda Nemec Foster
X-ORIGINAL-URL:https://www.lindanemecfoster.com
X-WR-CALDESC:Events for Linda Nemec Foster
BEGIN:VTIMEZONE
TZID:America/Detroit
BEGIN:DAYLIGHT
TZOFFSETFROM:-0500
TZOFFSETTO:-0400
TZNAME:EDT
DTSTART:20230312T070000
END:DAYLIGHT
BEGIN:STANDARD
TZOFFSETFROM:-0400
TZOFFSETTO:-0500
TZNAME:EST
DTSTART:20231105T060000
END:STANDARD
END:VTIMEZONE
BEGIN:VEVENT
DTSTART;VALUE=DATE:20230309
DTEND;VALUE=DATE:20230313
DTSTAMP:20260424T084757
CREATED:20230308T130045Z
LAST-MODIFIED:20240329T160725Z
UID:6362-1678320000-1678665599@www.lindanemecfoster.com
SUMMARY:AWP Conference in Seattle
DESCRIPTION:Linda has been invited to give a reading from her new book\, Bone Country\, at the Cornerstone Press book table at the AWP Bookfair on Friday\, March 10 at 11:00 am. She will also be doing book signings for Bone Country and The Lake Michigan Mermaid (the latter book at the Wayne State University Press’ table on Friday\, March 10 at 1:30 pm – 2:30 pm). \nThe Associated Writing Programs (AWP) Conference is one of the nation’s largest gatherings of poets\, writers\, authors\, scholars\, editors\, and publishers. \nSeattle Conference Center\n900 Pine Street\nSeattle\, Washington \nFor more information about Linda’s events at the AWP Conference\, contact Linda at: mfapwgrr9@aol.com
URL:https://www.lindanemecfoster.com/event/awp-conference-in-seattle/
LOCATION:Seattle Conference Center – Summit Building\, 900 Pine St\, Seattle\, WA\, 98101\, United States
END:VEVENT
END:VCALENDAR