BEGIN:VCALENDAR
VERSION:2.0
PRODID:-//Linda Nemec Foster - ECPv5.3.1.1//NONSGML v1.0//EN
CALSCALE:GREGORIAN
METHOD:PUBLISH
X-WR-CALNAME:Linda Nemec Foster
X-ORIGINAL-URL:https://www.lindanemecfoster.com
X-WR-CALDESC:Events for Linda Nemec Foster
BEGIN:VTIMEZONE
TZID:America/Detroit
BEGIN:DAYLIGHT
TZOFFSETFROM:-0500
TZOFFSETTO:-0400
TZNAME:EDT
DTSTART:20230312T070000
END:DAYLIGHT
BEGIN:STANDARD
TZOFFSETFROM:-0400
TZOFFSETTO:-0500
TZNAME:EST
DTSTART:20231105T060000
END:STANDARD
END:VTIMEZONE
BEGIN:VEVENT
DTSTART;TZID=America/Detroit:20230204T130000
DTEND;TZID=America/Detroit:20230204T140000
DTSTAMP:20260424T100814
CREATED:20230130T135946Z
LAST-MODIFIED:20240329T160735Z
UID:6261-1675515600-1675519200@www.lindanemecfoster.com
SUMMARY:Poetry Reading at The Poetry Center in Paterson\, New Jersey
DESCRIPTION:Linda Nemec Foster will read her poem\, “The Passenger Next to Me on the Flight from Krakow to Chicago Who Looks Like My Mother.” The piece won an Honorable Mention Award in the Allen Ginsberg Poetry Contest sponsored by The Poetry Center at Passaic County Community College. \nFor more info\, contact Smita Desai at sdesai@pccc.edu
URL:https://www.lindanemecfoster.com/event/poetry-reading-at-the-poetry-center-in-paterson-new-jersey-3/
LOCATION:The Hamilton Club\, 32 Church Street\, Paterson\, NJ\, 07505\, United States
END:VEVENT
END:VCALENDAR