BEGIN:VCALENDAR
VERSION:2.0
PRODID:-//Linda Nemec Foster - ECPv5.3.1.1//NONSGML v1.0//EN
CALSCALE:GREGORIAN
METHOD:PUBLISH
X-WR-CALNAME:Linda Nemec Foster
X-ORIGINAL-URL:https://www.lindanemecfoster.com
X-WR-CALDESC:Events for Linda Nemec Foster
BEGIN:VTIMEZONE
TZID:America/Detroit
BEGIN:DAYLIGHT
TZOFFSETFROM:-0500
TZOFFSETTO:-0400
TZNAME:EDT
DTSTART:20220313T070000
END:DAYLIGHT
BEGIN:STANDARD
TZOFFSETFROM:-0400
TZOFFSETTO:-0500
TZNAME:EST
DTSTART:20221106T060000
END:STANDARD
END:VTIMEZONE
BEGIN:VEVENT
DTSTART;TZID=America/Detroit:20221211T140000
DTEND;TZID=America/Detroit:20221211T150000
DTSTAMP:20260424T125806
CREATED:20221212T111200Z
LAST-MODIFIED:20230224T144953Z
UID:6063-1670767200-1670770800@www.lindanemecfoster.com
SUMMARY:Linda Nemec Foster participates in a reading to celebrate the life and poetry of Sophia Rivkin.
DESCRIPTION:Linda will be joined by poets and colleagues Cindy Frenkel\, Diane DeCillis\, M.L. Liebler\, Robert Fanning\, and Mary Jo Firth Gillett. This program will be a Zoom event. For more info\, contact M.L. Liebler at mlliebler@aol.com
URL:https://www.lindanemecfoster.com/event/linda-nemec-foster-participates-in-a-reading-to-celebrate-the-life-and-poetry-of-sophia-rivkin/
END:VEVENT
END:VCALENDAR