BEGIN:VCALENDAR
VERSION:2.0
PRODID:-//Linda Nemec Foster - ECPv5.3.1.1//NONSGML v1.0//EN
CALSCALE:GREGORIAN
METHOD:PUBLISH
X-WR-CALNAME:Linda Nemec Foster
X-ORIGINAL-URL:https://www.lindanemecfoster.com
X-WR-CALDESC:Events for Linda Nemec Foster
BEGIN:VTIMEZONE
TZID:America/Detroit
BEGIN:DAYLIGHT
TZOFFSETFROM:-0500
TZOFFSETTO:-0400
TZNAME:EDT
DTSTART:20220313T070000
END:DAYLIGHT
BEGIN:STANDARD
TZOFFSETFROM:-0400
TZOFFSETTO:-0500
TZNAME:EST
DTSTART:20221106T060000
END:STANDARD
END:VTIMEZONE
BEGIN:VEVENT
DTSTART;TZID=America/Detroit:20221105T130000
DTEND;TZID=America/Detroit:20221105T140000
DTSTAMP:20260424T141538
CREATED:20221103T200058Z
LAST-MODIFIED:20230224T145000Z
UID:5688-1667653200-1667656800@www.lindanemecfoster.com
SUMMARY:Linda Nemec Foster reads her poem published in the Paterson Liteary Review to celebrate PLR’s 50th issue
DESCRIPTION:Linda will join other contributors in this poetry reading to celebrate the journal and its editor\, Maria Mazziotti Gillan. This is a Zoom event\, but it will also be streamed live on YouTube. \nClick on the YouTube window below for access to the program: \n\nFor more info\, contact Smita Desai at sdesai@pccc.edu
URL:https://www.lindanemecfoster.com/event/linda-nemec-foster-reads-her-poem-published-in-the-paterson-liteary-review-to-celebrate-plrs-50th-issue/
END:VEVENT
END:VCALENDAR