BEGIN:VCALENDAR
VERSION:2.0
PRODID:-//Linda Nemec Foster - ECPv5.3.1.1//NONSGML v1.0//EN
CALSCALE:GREGORIAN
METHOD:PUBLISH
X-WR-CALNAME:Linda Nemec Foster
X-ORIGINAL-URL:https://www.lindanemecfoster.com
X-WR-CALDESC:Events for Linda Nemec Foster
BEGIN:VTIMEZONE
TZID:America/Detroit
BEGIN:DAYLIGHT
TZOFFSETFROM:-0500
TZOFFSETTO:-0400
TZNAME:EDT
DTSTART:20220313T070000
END:DAYLIGHT
BEGIN:STANDARD
TZOFFSETFROM:-0400
TZOFFSETTO:-0500
TZNAME:EST
DTSTART:20221106T060000
END:STANDARD
END:VTIMEZONE
BEGIN:VEVENT
DTSTART;TZID=America/Detroit:20221019T190000
DTEND;TZID=America/Detroit:20221019T203000
DTSTAMP:20260424T153505
CREATED:20221017T140048Z
LAST-MODIFIED:20231129T133814Z
UID:5620-1666206000-1666211400@www.lindanemecfoster.com
SUMMARY:Linda Nemec Foster reads with Anne-Marie Oomen on the Subject of Mothers
DESCRIPTION:Linda will read poems from her books\, The Blue Divide and Talking Diamonds\, on the subject of mothers. She’ll also be sharing new work on this theme. Linda will be joined by Anne-Marie Oomen who will be reading prose from her new book of creative non-fiction. \nSchuler Books\n2660 28th St. SE\nGrand Rapids\, MI 49512 \nFor more info\, contact Elizabeth Bosscher at: elizabeth@schulerbooks.com
URL:https://www.lindanemecfoster.com/event/linda-nemec-foster-reads-with-anne-marie-oomen-on-the-subject-of-mothers/
LOCATION:Schuler Books\, 2660 28th St SE\, Grand Rapids\, MI\, 49512\, United States
END:VEVENT
END:VCALENDAR