BEGIN:VCALENDAR
VERSION:2.0
PRODID:-//Linda Nemec Foster - ECPv5.3.1.1//NONSGML v1.0//EN
CALSCALE:GREGORIAN
METHOD:PUBLISH
X-WR-CALNAME:Linda Nemec Foster
X-ORIGINAL-URL:https://www.lindanemecfoster.com
X-WR-CALDESC:Events for Linda Nemec Foster
BEGIN:VTIMEZONE
TZID:America/Detroit
BEGIN:DAYLIGHT
TZOFFSETFROM:-0500
TZOFFSETTO:-0400
TZNAME:EDT
DTSTART:20210314T070000
END:DAYLIGHT
BEGIN:STANDARD
TZOFFSETFROM:-0400
TZOFFSETTO:-0500
TZNAME:EST
DTSTART:20211107T060000
END:STANDARD
END:VTIMEZONE
BEGIN:VEVENT
DTSTART;TZID=America/Detroit:20210506T190000
DTEND;TZID=America/Detroit:20210506T200000
DTSTAMP:20260425T151354
CREATED:20210503T201603Z
LAST-MODIFIED:20220607T211014Z
UID:4336-1620327600-1620331200@www.lindanemecfoster.com
SUMMARY:Poetry Hour with Linda Nemec Foster
DESCRIPTION:Linda Nemec Foster celebrates the Grand Rapids book launch for The Blue Divide with an online Facebook event hosted by Schuler Books. \nTo join the Facebook Live stream at 7:00 PM on May 6th\, please use the following link:\nhttps://www.facebook.com/events/schuler-books/poetry-hour-with-linda-nemec-foster/752939702048444/ \nLinda will be reading from her new book\, The Blue Divide\, followed by a Q&A with the audience. \nFor more information\, contact Samantha Hendricks at samantha@schulerbooks.com
URL:https://www.lindanemecfoster.com/event/poetry-hour-with-linda-nemec-foster/
END:VEVENT
END:VCALENDAR