BEGIN:VCALENDAR
VERSION:2.0
PRODID:-//Linda Nemec Foster - ECPv5.3.1.1//NONSGML v1.0//EN
CALSCALE:GREGORIAN
METHOD:PUBLISH
X-WR-CALNAME:Linda Nemec Foster
X-ORIGINAL-URL:https://www.lindanemecfoster.com
X-WR-CALDESC:Events for Linda Nemec Foster
BEGIN:VTIMEZONE
TZID:America/Detroit
BEGIN:DAYLIGHT
TZOFFSETFROM:-0500
TZOFFSETTO:-0400
TZNAME:EDT
DTSTART:20210314T070000
END:DAYLIGHT
BEGIN:STANDARD
TZOFFSETFROM:-0400
TZOFFSETTO:-0500
TZNAME:EST
DTSTART:20211107T060000
END:STANDARD
END:VTIMEZONE
BEGIN:VEVENT
DTSTART;TZID=America/Detroit:20210320T140000
DTEND;TZID=America/Detroit:20210320T160000
DTSTAMP:20260425T175014
CREATED:20210326T140029Z
LAST-MODIFIED:20220607T210953Z
UID:4310-1616248800-1616256000@www.lindanemecfoster.com
SUMMARY:A Virtual Celebration for Detroit Working Writers Members
DESCRIPTION:Linda Nemec Foster will talk about her accomplishments during the past two years including her 2019 Michigan Notable Book (The Lake Michigan Mermaid); the composition of her first libretto\, “Spirit of the Lake;” her poetry residency in Poland; various awards from magazines and journals; and her new book\, The Blue Divide. \nLinda will conclude her presentation by reading two poems from this collection. She will be joined by other DWW members including Diane DeCillis\, Linda Sienkiewicz\, and Nancy Owen Nelson. The program is a Zoom event hosted by Detroit Working Writers. \nFor more information about DWW and this event\, contact Roberta Brown: rlbrown417@gmail.com
URL:https://www.lindanemecfoster.com/event/a-virtual-celebration-for-detroit-working-writers-members/
END:VEVENT
END:VCALENDAR