BEGIN:VCALENDAR
VERSION:2.0
PRODID:-//Linda Nemec Foster - ECPv5.3.1.1//NONSGML v1.0//EN
CALSCALE:GREGORIAN
METHOD:PUBLISH
X-WR-CALNAME:Linda Nemec Foster
X-ORIGINAL-URL:https://www.lindanemecfoster.com
X-WR-CALDESC:Events for Linda Nemec Foster
BEGIN:VTIMEZONE
TZID:America/Detroit
BEGIN:DAYLIGHT
TZOFFSETFROM:-0500
TZOFFSETTO:-0400
TZNAME:EDT
DTSTART:20260308T070000
END:DAYLIGHT
BEGIN:STANDARD
TZOFFSETFROM:-0400
TZOFFSETTO:-0500
TZNAME:EST
DTSTART:20261101T060000
END:STANDARD
END:VTIMEZONE
BEGIN:VEVENT
DTSTART;TZID=America/Detroit:20260423T133000
DTEND;TZID=America/Detroit:20260423T150000
DTSTAMP:20260424T093313
CREATED:20260423T122344Z
LAST-MODIFIED:20260423T122632Z
UID:7474-1776951000-1776956400@www.lindanemecfoster.com
SUMMARY:Linda Nemec Foster will present The Lake Huron Mermaid: Poetry\, Art\, and the Healing Powers of the Great Lakes
DESCRIPTION:Linda will present her most recent book\, a collaboration with writer Anne-Marie Oomen and artist Meridith Ridl\, for Aquinas College’s OLLI Program. This program will be conducted in person and on Zoom—which will be recorded and available for future viewing. \nAquinas College\nHauenstein Library\, 2nd floor\n1700 Fulton Street E.\nGrand Rapids\, MI 49506 \nFor more info and the Zoom link. contact Ian MacNeil\, OLLI Director\, at idm001@aquinas.edu
URL:https://www.lindanemecfoster.com/event/linda-nemec-foster-will-present-the-lake-huron-mermaid-poetry-art-and-the-healing-powers-of-the-great-lakes/
LOCATION:Aquinas College – Hauenstein Library\, 1700 Fulton Street E\, Grand Rapids\, MI\, 49506\, United States
CATEGORIES:Events
END:VEVENT
END:VCALENDAR